BEGIN:VCALENDAR
VERSION:2.0
PRODID:-//Brett Bartholomew - ECPv6.15.20//NONSGML v1.0//EN
CALSCALE:GREGORIAN
METHOD:PUBLISH
X-WR-CALNAME:Brett Bartholomew
X-ORIGINAL-URL:https://brettbartholomew.net
X-WR-CALDESC:Events for Brett Bartholomew
REFRESH-INTERVAL;VALUE=DURATION:PT1H
X-Robots-Tag:noindex
X-PUBLISHED-TTL:PT1H
BEGIN:VTIMEZONE
TZID:UTC
BEGIN:STANDARD
TZOFFSETFROM:+0000
TZOFFSETTO:+0000
TZNAME:UTC
DTSTART:20160101T000000
END:STANDARD
END:VTIMEZONE
BEGIN:VEVENT
DTSTART;VALUE=DATE:20171201
DTEND;VALUE=DATE:20171202
DTSTAMP:20260425T195834
CREATED:20170911T162958Z
LAST-MODIFIED:20170911T162958Z
UID:1498-1512086400-1512172799@brettbartholomew.net
SUMMARY:Melbourne\, Australia
DESCRIPTION:December 2017 (Exact Dates TBA)\nContact James Russell for Details\nJames@starfitness.com.au
URL:https://brettbartholomew.net/event/melbourne-australia-2/
END:VEVENT
BEGIN:VEVENT
DTSTART;VALUE=DATE:20171201
DTEND;VALUE=DATE:20171202
DTSTAMP:20260425T195834
CREATED:20170911T163031Z
LAST-MODIFIED:20170911T163031Z
UID:1500-1512086400-1512172799@brettbartholomew.net
SUMMARY:Shanghai\, China
DESCRIPTION:Shanghai\, China\nDecember 2017 (Exact Dates TBA)\nContact Eddie for details\neddie@onefit.com.cn
URL:https://brettbartholomew.net/event/shanghai-china/
END:VEVENT
END:VCALENDAR