BEGIN:VCALENDAR
VERSION:2.0
PRODID:-//Brett Bartholomew - ECPv6.15.20//NONSGML v1.0//EN
CALSCALE:GREGORIAN
METHOD:PUBLISH
X-WR-CALNAME:Brett Bartholomew
X-ORIGINAL-URL:https://brettbartholomew.net
X-WR-CALDESC:Events for Brett Bartholomew
REFRESH-INTERVAL;VALUE=DURATION:PT1H
X-Robots-Tag:noindex
X-PUBLISHED-TTL:PT1H
BEGIN:VTIMEZONE
TZID:UTC
BEGIN:STANDARD
TZOFFSETFROM:+0000
TZOFFSETTO:+0000
TZNAME:UTC
DTSTART:20170101T000000
END:STANDARD
END:VTIMEZONE
BEGIN:VEVENT
DTSTART;VALUE=DATE:20181015
DTEND;VALUE=DATE:20181021
DTSTAMP:20260425T031658
CREATED:20180708T154836Z
LAST-MODIFIED:20180708T154836Z
UID:2159-1539561600-1540079999@brettbartholomew.net
SUMMARY:International Meeting for High Performance- Europe
DESCRIPTION:Information below is from the event organizer. Visit their website linked below for more details. \nThe Elite Training Brazil team consists of coaches and world class athletes. This project started 4 years ago and since then we have organized more than 70 workshops and conferences with the best S&C coaches/scientists in the world. We’ve also consulted for professional clubs and athletes and worked along the most advanced technology companies in the industry. \n\n\nThis event brought together 7 of the best sports scientists/coaches on the planet for a 6 day\, 12 hours a day theory/practical immersion on the highest quality content about high performance training. All speakers present every day\, different topics every time so you don’t have to miss anything. The connection between science and hands-on coaching\, by the professionals who are leading their fields in the training industry. \nThat’s not enough for you?\nHow about industry-specific networking? \nHundreds of coaches from several different countries\, continents and backgrounds will be present. The best equipment brands and technology companies that are changing the way we view testing and training will be there\, we’ll have real time assessments and analysis. You can have a go! \nTravel and fun\, always a big part of why we attend a conference. We promise you\, not one boring day!\nSo\, start arranging your travel plans… we’ll be waiting for you
URL:https://brettbartholomew.net/event/international-meeting-for-high-performance-europe/
END:VEVENT
END:VCALENDAR