BEGIN:VCALENDAR
VERSION:2.0
PRODID:-//Brett Bartholomew - ECPv6.15.20//NONSGML v1.0//EN
CALSCALE:GREGORIAN
METHOD:PUBLISH
X-ORIGINAL-URL:https://brettbartholomew.net
X-WR-CALDESC:Events for Brett Bartholomew
REFRESH-INTERVAL;VALUE=DURATION:PT1H
X-Robots-Tag:noindex
X-PUBLISHED-TTL:PT1H
BEGIN:VTIMEZONE
TZID:UTC
BEGIN:STANDARD
TZOFFSETFROM:+0000
TZOFFSETTO:+0000
TZNAME:UTC
DTSTART:20170101T000000
END:STANDARD
END:VTIMEZONE
BEGIN:VEVENT
DTSTART;VALUE=DATE:20181110
DTEND;VALUE=DATE:20181113
DTSTAMP:20260425T013443
CREATED:20180708T155358Z
LAST-MODIFIED:20180708T155358Z
UID:2162-1541808000-1542067199@brettbartholomew.net
SUMMARY:Private Event: 2 Day Performance Staff In-Service- Los Angeles\, CA
DESCRIPTION:This is a private event booked by a company/organization looking for customized staff development content related to the field of strength and conditioning/sports performance. \nTo book a private in-service for you and your staff\, please visit the link below and a member of our team will be in touch.
URL:https://brettbartholomew.net/event/private-event-2-day-performance-staff-in-service-los-angeles-ca/
END:VEVENT
END:VCALENDAR