BEGIN:VCALENDAR
VERSION:2.0
PRODID:-//Brett Bartholomew - ECPv6.15.20//NONSGML v1.0//EN
CALSCALE:GREGORIAN
METHOD:PUBLISH
X-WR-CALNAME:Brett Bartholomew
X-ORIGINAL-URL:https://brettbartholomew.net
X-WR-CALDESC:Events for Brett Bartholomew
REFRESH-INTERVAL;VALUE=DURATION:PT1H
X-Robots-Tag:noindex
X-PUBLISHED-TTL:PT1H
BEGIN:VTIMEZONE
TZID:UTC
BEGIN:STANDARD
TZOFFSETFROM:+0000
TZOFFSETTO:+0000
TZNAME:UTC
DTSTART:20170101T000000
END:STANDARD
END:VTIMEZONE
BEGIN:VEVENT
DTSTART;VALUE=DATE:20181211
DTEND;VALUE=DATE:20181213
DTSTAMP:20260424T234747
CREATED:20180820T163800Z
LAST-MODIFIED:20180820T163800Z
UID:2366-1544486400-1544659199@brettbartholomew.net
SUMMARY:Rossville High-School: Coaching\, Community and Educating Tomorrow's Athletes
DESCRIPTION:
URL:https://brettbartholomew.net/event/rossville-high-school-coaching-community-and-educating-tomorrows-athletes/
LOCATION:Rossville\, KS
END:VEVENT
END:VCALENDAR