BEGIN:VCALENDAR
VERSION:2.0
PRODID:-//Brett Bartholomew - ECPv6.15.20//NONSGML v1.0//EN
CALSCALE:GREGORIAN
METHOD:PUBLISH
X-ORIGINAL-URL:https://brettbartholomew.net
X-WR-CALDESC:Events for Brett Bartholomew
REFRESH-INTERVAL;VALUE=DURATION:PT1H
X-Robots-Tag:noindex
X-PUBLISHED-TTL:PT1H
BEGIN:VTIMEZONE
TZID:UTC
BEGIN:STANDARD
TZOFFSETFROM:+0000
TZOFFSETTO:+0000
TZNAME:UTC
DTSTART:20180101T000000
END:STANDARD
END:VTIMEZONE
BEGIN:VEVENT
DTSTART;TZID=UTC:20190111T080000
DTEND;TZID=UTC:20190112T170000
DTSTAMP:20260424T220421
CREATED:20180917T153810Z
LAST-MODIFIED:20180917T153810Z
UID:2409-1547193600-1547312400@brettbartholomew.net
SUMMARY:University of Texas Athletic Performance Clinic
DESCRIPTION:See link below for more details!
URL:https://brettbartholomew.net/event/university-of-texas-athletic-performance-clinic/
END:VEVENT
END:VCALENDAR