BEGIN:VCALENDAR
VERSION:2.0
PRODID:-//Brett Bartholomew - ECPv6.15.20//NONSGML v1.0//EN
CALSCALE:GREGORIAN
METHOD:PUBLISH
X-ORIGINAL-URL:https://brettbartholomew.net
X-WR-CALDESC:Events for Brett Bartholomew
REFRESH-INTERVAL;VALUE=DURATION:PT1H
X-Robots-Tag:noindex
X-PUBLISHED-TTL:PT1H
BEGIN:VTIMEZONE
TZID:UTC
BEGIN:STANDARD
TZOFFSETFROM:+0000
TZOFFSETTO:+0000
TZNAME:UTC
DTSTART:20180101T000000
END:STANDARD
END:VTIMEZONE
BEGIN:VEVENT
DTSTART;VALUE=DATE:20190202
DTEND;VALUE=DATE:20190204
DTSTAMP:20260424T202338
CREATED:20180820T164312Z
LAST-MODIFIED:20180901T193334Z
UID:2372-1549065600-1549238399@brettbartholomew.net
SUMMARY:PLAE Lab: Sydney\, Australia
DESCRIPTION:
URL:https://brettbartholomew.net/event/plae-lab-sydney-australia/
LOCATION:University of Sydney
END:VEVENT
END:VCALENDAR