BEGIN:VCALENDAR
VERSION:2.0
PRODID:-//Brett Bartholomew - ECPv6.15.20//NONSGML v1.0//EN
CALSCALE:GREGORIAN
METHOD:PUBLISH
X-WR-CALNAME:Brett Bartholomew
X-ORIGINAL-URL:https://brettbartholomew.net
X-WR-CALDESC:Events for Brett Bartholomew
REFRESH-INTERVAL;VALUE=DURATION:PT1H
X-Robots-Tag:noindex
X-PUBLISHED-TTL:PT1H
BEGIN:VTIMEZONE
TZID:UTC
BEGIN:STANDARD
TZOFFSETFROM:+0000
TZOFFSETTO:+0000
TZNAME:UTC
DTSTART:20180101T000000
END:STANDARD
END:VTIMEZONE
BEGIN:VEVENT
DTSTART;VALUE=DATE:20191104
DTEND;VALUE=DATE:20191105
DTSTAMP:20260422T053943
CREATED:20190530T123744Z
LAST-MODIFIED:20190530T123744Z
UID:2746-1572825600-1572911999@brettbartholomew.net
SUMMARY:Private PT In-Service
DESCRIPTION:Privately held event working with 50 physical therapists in Atlanta\, GA.
URL:https://brettbartholomew.net/event/private-pt-in-service-2/
LOCATION:Atlanta\, GA
END:VEVENT
END:VCALENDAR