BEGIN:VCALENDAR
VERSION:2.0
PRODID:-//Brett Bartholomew - ECPv6.15.20//NONSGML v1.0//EN
CALSCALE:GREGORIAN
METHOD:PUBLISH
X-WR-CALNAME:Brett Bartholomew
X-ORIGINAL-URL:https://brettbartholomew.net
X-WR-CALDESC:Events for Brett Bartholomew
REFRESH-INTERVAL;VALUE=DURATION:PT1H
X-Robots-Tag:noindex
X-PUBLISHED-TTL:PT1H
BEGIN:VTIMEZONE
TZID:UTC
BEGIN:STANDARD
TZOFFSETFROM:+0000
TZOFFSETTO:+0000
TZNAME:UTC
DTSTART:20180101T000000
END:STANDARD
END:VTIMEZONE
BEGIN:VEVENT
DTSTART;VALUE=DATE:20191108
DTEND;VALUE=DATE:20191109
DTSTAMP:20260422T053941
CREATED:20190207T220212Z
LAST-MODIFIED:20190806T191536Z
UID:2519-1573171200-1573257599@brettbartholomew.net
SUMMARY:RISE: Elevate Your World
DESCRIPTION:The leading professionals\, influencers\, coaches\, experts and hundreds more in the Fitness Industry have attended our events since March 2013. It has been described as the “must-attend event for serious Fitness professionals”. For the first time Rise will be in Dallas\, Texas. If you want the chance to join 300 fitness industry changemakers and gym owners this November\, purchase your ticket via this link here.
URL:https://brettbartholomew.net/event/rise-elevate-your-world/
END:VEVENT
END:VCALENDAR