BEGIN:VCALENDAR
VERSION:2.0
PRODID:-//Brett Bartholomew - ECPv6.15.20//NONSGML v1.0//EN
CALSCALE:GREGORIAN
METHOD:PUBLISH
X-ORIGINAL-URL:https://brettbartholomew.net
X-WR-CALDESC:Events for Brett Bartholomew
REFRESH-INTERVAL;VALUE=DURATION:PT1H
X-Robots-Tag:noindex
X-PUBLISHED-TTL:PT1H
BEGIN:VTIMEZONE
TZID:UTC
BEGIN:STANDARD
TZOFFSETFROM:+0000
TZOFFSETTO:+0000
TZNAME:UTC
DTSTART:20190101T000000
END:STANDARD
END:VTIMEZONE
BEGIN:VEVENT
DTSTART;VALUE=DATE:20200118
DTEND;VALUE=DATE:20200119
DTSTAMP:20260422T023438
CREATED:20190927T185653Z
LAST-MODIFIED:20190930T120347Z
UID:2954-1579305600-1579391999@brettbartholomew.net
SUMMARY:The University of Texas Athletic Performance Clinic
DESCRIPTION:The University of Texas Athletic Performance staff welcomes you to their eighth annual Athletic Performance Clinic. They offer a line-up of knowledgeable and diverse speakers from around the country. This clinic will stimulate and educate attendees on both innovative and proven philosophies of training\, and will also provide attendees the opportunity to network with other professionals. They firmly believe that the clinic will give all attendees new perspective on athletic performance and will become a valued resource for athletic performance development for years to come.
URL:https://brettbartholomew.net/event/the-university-of-texas-athletic-performance-clinic/
LOCATION:University of Texas at Austin\, Austin\, TX\, United States
END:VEVENT
END:VCALENDAR