BEGIN:VCALENDAR
VERSION:2.0
PRODID:-//Brett Bartholomew - ECPv6.15.20//NONSGML v1.0//EN
CALSCALE:GREGORIAN
METHOD:PUBLISH
X-WR-CALNAME:Brett Bartholomew
X-ORIGINAL-URL:https://brettbartholomew.net
X-WR-CALDESC:Events for Brett Bartholomew
REFRESH-INTERVAL;VALUE=DURATION:PT1H
X-Robots-Tag:noindex
X-PUBLISHED-TTL:PT1H
BEGIN:VTIMEZONE
TZID:UTC
BEGIN:STANDARD
TZOFFSETFROM:+0000
TZOFFSETTO:+0000
TZNAME:UTC
DTSTART:20200101T000000
END:STANDARD
END:VTIMEZONE
BEGIN:VEVENT
DTSTART;VALUE=DATE:20211009
DTEND;VALUE=DATE:20211011
DTSTAMP:20260420T170539
CREATED:20210813T165001Z
LAST-MODIFIED:20210813T165001Z
UID:4895-1633737600-1633910399@brettbartholomew.net
SUMMARY:The Apprenticeship™ – Cardiff\, UK
DESCRIPTION:
URL:https://brettbartholomew.net/event/the-apprenticeship-cardiff-uk/
LOCATION:Sport Wales\, Sophia Gardens\, Cardiff CF11 9SW\, Wales\, United Kingdom
END:VEVENT
END:VCALENDAR