BEGIN:VCALENDAR
VERSION:2.0
PRODID:-//Brett Bartholomew - ECPv6.15.20//NONSGML v1.0//EN
CALSCALE:GREGORIAN
METHOD:PUBLISH
X-WR-CALNAME:Brett Bartholomew
X-ORIGINAL-URL:https://brettbartholomew.net
X-WR-CALDESC:Events for Brett Bartholomew
REFRESH-INTERVAL;VALUE=DURATION:PT1H
X-Robots-Tag:noindex
X-PUBLISHED-TTL:PT1H
BEGIN:VTIMEZONE
TZID:UTC
BEGIN:STANDARD
TZOFFSETFROM:+0000
TZOFFSETTO:+0000
TZNAME:UTC
DTSTART:20210101T000000
END:STANDARD
END:VTIMEZONE
BEGIN:VEVENT
DTSTART;VALUE=DATE:20220312
DTEND;VALUE=DATE:20220314
DTSTAMP:20260420T090334
CREATED:20210813T165922Z
LAST-MODIFIED:20210813T165922Z
UID:4908-1647043200-1647215999@brettbartholomew.net
SUMMARY:The Apprenticeship™ - Austin\, TX
DESCRIPTION:
URL:https://brettbartholomew.net/event/the-apprenticeship-austin-tx/
LOCATION:Power Athlete\, Austin\, TX\, United States
END:VEVENT
END:VCALENDAR