BEGIN:VCALENDAR
VERSION:2.0
PRODID:-//Brett Bartholomew - ECPv6.15.20//NONSGML v1.0//EN
CALSCALE:GREGORIAN
METHOD:PUBLISH
X-ORIGINAL-URL:https://brettbartholomew.net
X-WR-CALDESC:Events for Brett Bartholomew
REFRESH-INTERVAL;VALUE=DURATION:PT1H
X-Robots-Tag:noindex
X-PUBLISHED-TTL:PT1H
BEGIN:VTIMEZONE
TZID:UTC
BEGIN:STANDARD
TZOFFSETFROM:+0000
TZOFFSETTO:+0000
TZNAME:UTC
DTSTART:20210101T000000
END:STANDARD
END:VTIMEZONE
BEGIN:VEVENT
DTSTART;VALUE=DATE:20220319
DTEND;VALUE=DATE:20220321
DTSTAMP:20260420T090417
CREATED:20210813T170026Z
LAST-MODIFIED:20210813T170026Z
UID:4911-1647648000-1647820799@brettbartholomew.net
SUMMARY:Brand Builder Workshop
DESCRIPTION:
URL:https://brettbartholomew.net/event/brand-builder-workshop/
END:VEVENT
BEGIN:VEVENT
DTSTART;TZID=UTC:20220319T000000
DTEND;TZID=UTC:20220320T000000
DTSTAMP:20260420T090417
CREATED:20260211T103616Z
LAST-MODIFIED:20260211T103616Z
UID:5587-1647648000-1647734400@brettbartholomew.net
SUMMARY:Brand Builder Workshop
DESCRIPTION:
URL:https://brettbartholomew.net/event/brand-builder-workshop-2/
END:VEVENT
END:VCALENDAR