BEGIN:VCALENDAR
VERSION:2.0
PRODID:-//Brett Bartholomew - ECPv6.15.20//NONSGML v1.0//EN
CALSCALE:GREGORIAN
METHOD:PUBLISH
X-WR-CALNAME:Brett Bartholomew
X-ORIGINAL-URL:https://brettbartholomew.net
X-WR-CALDESC:Events for Brett Bartholomew
REFRESH-INTERVAL;VALUE=DURATION:PT1H
X-Robots-Tag:noindex
X-PUBLISHED-TTL:PT1H
BEGIN:VTIMEZONE
TZID:UTC
BEGIN:STANDARD
TZOFFSETFROM:+0000
TZOFFSETTO:+0000
TZNAME:UTC
DTSTART:20160101T000000
END:STANDARD
END:VTIMEZONE
BEGIN:VEVENT
DTSTART;VALUE=DATE:20170922
DTEND;VALUE=DATE:20170924
DTSTAMP:20260425T230556
CREATED:20170509T161941Z
LAST-MODIFIED:20170509T161941Z
UID:1420-1506038400-1506211199@brettbartholomew.net
SUMMARY:Rockstock '17 Peace\, Love & Movement
DESCRIPTION:Join RockTape for two days of peace\, love and movement on the beautiful Southern California coast! RockStock’s mission is to unite a community of health and fitness professionals dedicated to movement science and innovation. We want you to leave re-energized\, full of love for the work you do every day\, bursting with the latest techniques and knowledge to help your patients and clients move. \nWith 12 hours of educational programming (CEUs) and 8 hours of additional activities to include social hours\, fitness activities (beach workouts\, water activity)\, and live music – we take care of everything. Lunch buffets both days\, a happy hour under the stars on Friday night and a ROCKING party planned for Saturday night overlooking the Pacific – all included with your RockStock Festival Ticket. Far out.
URL:https://brettbartholomew.net/event/rockstock-17-peace-love-movement/
LOCATION:RockTape\, 1610 Dell Ave\, Campbell\, CA\, 95008\, United States
END:VEVENT
BEGIN:VEVENT
DTSTART;VALUE=DATE:20170922
DTEND;VALUE=DATE:20170924
DTSTAMP:20260425T230556
CREATED:20170509T162118Z
LAST-MODIFIED:20170509T162118Z
UID:1423-1506038400-1506211199@brettbartholomew.net
SUMMARY:2017 Training for Combat Sports Clinic
DESCRIPTION:
URL:https://brettbartholomew.net/event/2017-training-combat-sports-clinic/
LOCATION:New UFC Facility\,  Las Vegas\, NV\, United States
END:VEVENT
BEGIN:VEVENT
DTSTART;VALUE=DATE:20170928
DTEND;VALUE=DATE:20171001
DTSTAMP:20260425T230556
CREATED:20170905T154910Z
LAST-MODIFIED:20170905T154954Z
UID:1473-1506556800-1506815999@brettbartholomew.net
SUMMARY:Vigor Ground Fitness & Business Summit 2017
DESCRIPTION:Spend the Weekend With the World’s Best Fitness\, Business\, Brand Building and Coaching Experts So That You Can Work Less\, Earn More & Create Massive Impact. \nIt’s not often you come across an event that is jam-packed with experts who have poured their heart and soul into building ultra successful fitness businesses. \n\nBut this one is filled with them\, and they’re going to share how they get results with you.\n\nThe Vigor Ground Fitness and Business Summit is a powerful 3-days of building your coaching and fitness business mindsets\, skillsets and strategies from the leaders.\n\nThese are the experts breaking the mold and paving the future of our industry.\n\nIt’s not often you come to an event with back to back speakers all dedicated to the mastery of their craft as well as helping YOU do the same.\n\nPlain and simple…this event will help you become the greatest coach and business owner. \n\nThat means getting your clients and business (your bottom line) the thing that matters most – results.
URL:https://brettbartholomew.net/event/vigor-ground-fitness-business-summit-2017/
LOCATION:Hyatt Regency Lake Washington\, 1053 Lake Washington Blvd N\, Renton\, WA\, 98056\, United States
END:VEVENT
BEGIN:VEVENT
DTSTART;VALUE=DATE:20170930
DTEND;VALUE=DATE:20171002
DTSTAMP:20260425T230556
CREATED:20170905T160728Z
LAST-MODIFIED:20170905T160728Z
UID:1477-1506729600-1506902399@brettbartholomew.net
SUMMARY:Private Staff In-Service (Applications Accepted)
DESCRIPTION:
URL:https://brettbartholomew.net/event/private-staff-service-applications-accepted/
END:VEVENT
END:VCALENDAR