BEGIN:VCALENDAR
VERSION:2.0
PRODID:-//Brett Bartholomew - ECPv6.15.20//NONSGML v1.0//EN
CALSCALE:GREGORIAN
METHOD:PUBLISH
X-WR-CALNAME:Brett Bartholomew
X-ORIGINAL-URL:https://brettbartholomew.net
X-WR-CALDESC:Events for Brett Bartholomew
REFRESH-INTERVAL;VALUE=DURATION:PT1H
X-Robots-Tag:noindex
X-PUBLISHED-TTL:PT1H
BEGIN:VTIMEZONE
TZID:UTC
BEGIN:STANDARD
TZOFFSETFROM:+0000
TZOFFSETTO:+0000
TZNAME:UTC
DTSTART:20160101T000000
END:STANDARD
END:VTIMEZONE
BEGIN:VEVENT
DTSTART;VALUE=DATE:20170930
DTEND;VALUE=DATE:20171002
DTSTAMP:20260425T212317
CREATED:20170905T160728Z
LAST-MODIFIED:20170905T160728Z
UID:1477-1506729600-1506902399@brettbartholomew.net
SUMMARY:Private Staff In-Service (Applications Accepted)
DESCRIPTION:
URL:https://brettbartholomew.net/event/private-staff-service-applications-accepted/
END:VEVENT
BEGIN:VEVENT
DTSTART;VALUE=DATE:20171011
DTEND;VALUE=DATE:20171019
DTSTAMP:20260425T212317
CREATED:20170905T161053Z
LAST-MODIFIED:20170905T161636Z
UID:1479-1507680000-1508371199@brettbartholomew.net
SUMMARY:Elite International Performance and Training Summit
DESCRIPTION:
URL:https://brettbartholomew.net/event/elite-international-performance-training-summit/
LOCATION:Elite International\, São Paulo\, Brazil
END:VEVENT
BEGIN:VEVENT
DTSTART;VALUE=DATE:20171019
DTEND;VALUE=DATE:20171022
DTSTAMP:20260425T212317
CREATED:20170905T161446Z
LAST-MODIFIED:20170905T161446Z
UID:1482-1508371200-1508630399@brettbartholomew.net
SUMMARY:Celebration of Excellence
DESCRIPTION:
URL:https://brettbartholomew.net/event/celebration-of-excellence/
LOCATION:Kansas State University\, 1324 Lovers Lane\, Manhattan\, KS\, 66506-1401\, United States
END:VEVENT
END:VCALENDAR