BEGIN:VCALENDAR
VERSION:2.0
PRODID:-//Brett Bartholomew - ECPv6.15.20//NONSGML v1.0//EN
CALSCALE:GREGORIAN
METHOD:PUBLISH
X-ORIGINAL-URL:https://brettbartholomew.net
X-WR-CALDESC:Events for Brett Bartholomew
REFRESH-INTERVAL;VALUE=DURATION:PT1H
X-Robots-Tag:noindex
X-PUBLISHED-TTL:PT1H
BEGIN:VTIMEZONE
TZID:UTC
BEGIN:STANDARD
TZOFFSETFROM:+0000
TZOFFSETTO:+0000
TZNAME:UTC
DTSTART:20170101T000000
END:STANDARD
END:VTIMEZONE
BEGIN:VEVENT
DTSTART;VALUE=DATE:20180112
DTEND;VALUE=DATE:20180115
DTSTAMP:20260425T164104
CREATED:20170905T162756Z
LAST-MODIFIED:20170905T162756Z
UID:1487-1515715200-1515974399@brettbartholomew.net
SUMMARY:University of Texas Athletic Performance Clinic
DESCRIPTION:
URL:https://brettbartholomew.net/event/university-texas-athletic-performance-clinic/
LOCATION:University of Texas at Austin\, Austin\, TX\, United States
END:VEVENT
END:VCALENDAR