BEGIN:VCALENDAR
VERSION:2.0
PRODID:-//Brett Bartholomew - ECPv6.15.20//NONSGML v1.0//EN
CALSCALE:GREGORIAN
METHOD:PUBLISH
X-ORIGINAL-URL:https://brettbartholomew.net
X-WR-CALDESC:Events for Brett Bartholomew
REFRESH-INTERVAL;VALUE=DURATION:PT1H
X-Robots-Tag:noindex
X-PUBLISHED-TTL:PT1H
BEGIN:VTIMEZONE
TZID:UTC
BEGIN:STANDARD
TZOFFSETFROM:+0000
TZOFFSETTO:+0000
TZNAME:UTC
DTSTART:20170101T000000
END:STANDARD
END:VTIMEZONE
BEGIN:VEVENT
DTSTART;VALUE=DATE:20180330
DTEND;VALUE=DATE:20180401
DTSTAMP:20260425T131303
CREATED:20180326T160112Z
LAST-MODIFIED:20180326T160112Z
UID:2069-1522368000-1522540799@brettbartholomew.net
SUMMARY:Test Event
DESCRIPTION:Testing
URL:https://brettbartholomew.net/event/test-event/
LOCATION:ALTIS\, 2629 E Rose Garden Ln\,\, Phoenix\, AZ\, 85050\, United States
END:VEVENT
END:VCALENDAR