BEGIN:VCALENDAR
VERSION:2.0
PRODID:-//Brett Bartholomew - ECPv6.15.20//NONSGML v1.0//EN
CALSCALE:GREGORIAN
METHOD:PUBLISH
X-WR-CALNAME:Brett Bartholomew
X-ORIGINAL-URL:https://brettbartholomew.net
X-WR-CALDESC:Events for Brett Bartholomew
REFRESH-INTERVAL;VALUE=DURATION:PT1H
X-Robots-Tag:noindex
X-PUBLISHED-TTL:PT1H
BEGIN:VTIMEZONE
TZID:UTC
BEGIN:STANDARD
TZOFFSETFROM:+0000
TZOFFSETTO:+0000
TZNAME:UTC
DTSTART:20180101T000000
END:STANDARD
END:VTIMEZONE
BEGIN:VEVENT
DTSTART;VALUE=DATE:20190601
DTEND;VALUE=DATE:20190602
DTSTAMP:20260424T115311
CREATED:20190520T154050Z
LAST-MODIFIED:20190520T154050Z
UID:2707-1559347200-1559433599@brettbartholomew.net
SUMMARY:Birmingham Sports Performance Coaches Clinic- Presented by UAB
DESCRIPTION:The 2019 Birmingham Sports Performance Clinic will give you the major keys to athletic performance success. Hear from  distinguished Performance Coach and Consultant\, Brett Bartholomew\, Strength and Conditioning coaches from Louisiana Tech\, Kennesaw State\, and UAB’s very own Lyle Henley who has trained 55 athletes who have made opening day rosters with 24 First and Second round NFL Draft picks.
URL:https://brettbartholomew.net/event/birmingham-sports-performance-coaches-clinic-presented-by-uab/
LOCATION:University of Alabama at Birmingham\, 1720 2nd Ave S\, Birmingham\, AL\, 35294\, United States
END:VEVENT
BEGIN:VEVENT
DTSTART;VALUE=DATE:20190626
DTEND;VALUE=DATE:20190627
DTSTAMP:20260424T115311
CREATED:20190425T172702Z
LAST-MODIFIED:20190425T172702Z
UID:2568-1561507200-1561593599@brettbartholomew.net
SUMMARY:Private Staff In-Service
DESCRIPTION:
URL:https://brettbartholomew.net/event/private-staff-in-service-3/
LOCATION:Austin\, Texas\, Austin\, TX\, United States
END:VEVENT
END:VCALENDAR