BEGIN:VCALENDAR
VERSION:2.0
PRODID:-//Brett Bartholomew - ECPv6.15.20//NONSGML v1.0//EN
CALSCALE:GREGORIAN
METHOD:PUBLISH
X-ORIGINAL-URL:https://brettbartholomew.net
X-WR-CALDESC:Events for Brett Bartholomew
REFRESH-INTERVAL;VALUE=DURATION:PT1H
X-Robots-Tag:noindex
X-PUBLISHED-TTL:PT1H
BEGIN:VTIMEZONE
TZID:UTC
BEGIN:STANDARD
TZOFFSETFROM:+0000
TZOFFSETTO:+0000
TZNAME:UTC
DTSTART:20180101T000000
END:STANDARD
END:VTIMEZONE
BEGIN:VEVENT
DTSTART;VALUE=DATE:20190803
DTEND;VALUE=DATE:20190804
DTSTAMP:20260424T083633
CREATED:20181212T223913Z
LAST-MODIFIED:20190528T180558Z
UID:2477-1564790400-1564876799@brettbartholomew.net
SUMMARY:Advanced Concepts in Strength & Conditioning Within Sports Medicine
DESCRIPTION:Attendees will gain an understanding and implementation of advanced strength and conditioning concepts for the athletic population including: applying strength principles in rehab\, working with the aging athlete\, using PRP for chronic tendinopathies\,  utilizing a sports medicine team\, force velocity profiling and biomechanics of lifting. There will be 15 attendees per instructor ratio.
URL:https://brettbartholomew.net/event/private-pt-in-service/
LOCATION:Results Physical Therapy and Training Center\, 9852 Business Park Dr. Suite A\, Sacramento\, CA\, 95827\, United States
END:VEVENT
BEGIN:VEVENT
DTSTART;TZID=UTC:20190831T090000
DTEND;TZID=UTC:20190831T160000
DTSTAMP:20260424T083633
CREATED:20181212T224145Z
LAST-MODIFIED:20190725T213058Z
UID:2480-1567242000-1567267200@brettbartholomew.net
SUMMARY:Bridging Sports Performance and Human Performance - Paradigm Sport
DESCRIPTION:SESSION TOPICS:\n\n\nBought In: Behavior-Based Approach to Engineering Outcomes\nCreate Optimal Coaching Environments: Address Learning Styles\, Skill-Acquisition & Transfer\nPerception and Performance: Overcome the Dynamics of Distracting Gimmicks\n\n\n\nRECOMMENDED READING & RESOURCES: \n\nConscious Coaching: The Art and Science of Building Buy-In\nThe Art of Coaching podcast\n\nLOGISTICS: \n\nFood: Bring your own snacks & lunch\nNearest airport: San Jose International Airport\nPlaces to stay: Fairfield Inn & Suites by Marriott Santa Cruz\, Hotel Paradox Santa Cruz\, Dream Inn Santa Cruz
URL:https://brettbartholomew.net/event/paradigm-sport-event/
LOCATION:Santa Cruz\, CA
END:VEVENT
END:VCALENDAR