BEGIN:VCALENDAR
VERSION:2.0
PRODID:-//Brett Bartholomew - ECPv6.15.20//NONSGML v1.0//EN
CALSCALE:GREGORIAN
METHOD:PUBLISH
X-ORIGINAL-URL:https://brettbartholomew.net
X-WR-CALDESC:Events for Brett Bartholomew
REFRESH-INTERVAL;VALUE=DURATION:PT1H
X-Robots-Tag:noindex
X-PUBLISHED-TTL:PT1H
BEGIN:VTIMEZONE
TZID:UTC
BEGIN:STANDARD
TZOFFSETFROM:+0000
TZOFFSETTO:+0000
TZNAME:UTC
DTSTART:20190101T000000
END:STANDARD
END:VTIMEZONE
BEGIN:VEVENT
DTSTART;VALUE=DATE:20200404
DTEND;VALUE=DATE:20200405
DTSTAMP:20260421T195645
CREATED:20200123T120107Z
LAST-MODIFIED:20200123T121619Z
UID:3832-1585958400-1586044799@brettbartholomew.net
SUMMARY:Missouri State Clinic -  St. Louis\, MO
DESCRIPTION:Learn\, participate and network with colleagues while earning CEUs. Hosted by the state/provincial directors and regional coordinators\, this local event brings cutting-edge research and application to your backyard.
URL:https://brettbartholomew.net/event/missouri-state-clinic-st-louis-mo/
LOCATION:Maryville University\, 664 Maryville University Dr St Louis\, MO 63141
END:VEVENT
BEGIN:VEVENT
DTSTART;VALUE=DATE:20200424
DTEND;VALUE=DATE:20200425
DTSTAMP:20260421T195645
CREATED:20200123T160453Z
LAST-MODIFIED:20200123T162055Z
UID:3843-1587686400-1587772799@brettbartholomew.net
SUMMARY:IYCA Athletic Development Summit - Livonia\, MI
DESCRIPTION:Join us at the premier athlete development conference of the year – the Athletic Development Summit presented by the IYCA and Mercy Elite. The Summit will be held at a new location this year\, the Schoolcraft College VistaTech Business Center in Livonia\, MI.  Day 2 of the Summit is back at the Total Sports Complex – Wixom where there will be a combination of hands-on & lecture-style presentations. \nThere will also be plenty of time to interact with the presenters\, network with participants\, and develop as a professional.  Both days will be 9:00 – 4:00 and they’re guaranteed to be packed with information that will make you better immediately.  There really isn’t anything like the Summit!
URL:https://brettbartholomew.net/event/iyca-athletic-development-summit-livonia-mi/
LOCATION:Schoolcraft College’s VisTa Tech Center\, 18600 Haggerty Road Livonia\, Michigan 48152
END:VEVENT
END:VCALENDAR