BEGIN:VCALENDAR
VERSION:2.0
PRODID:-//Brett Bartholomew - ECPv6.15.20//NONSGML v1.0//EN
CALSCALE:GREGORIAN
METHOD:PUBLISH
X-ORIGINAL-URL:https://brettbartholomew.net
X-WR-CALDESC:Events for Brett Bartholomew
REFRESH-INTERVAL;VALUE=DURATION:PT1H
X-Robots-Tag:noindex
X-PUBLISHED-TTL:PT1H
BEGIN:VTIMEZONE
TZID:UTC
BEGIN:STANDARD
TZOFFSETFROM:+0000
TZOFFSETTO:+0000
TZNAME:UTC
DTSTART:20200101T000000
END:STANDARD
END:VTIMEZONE
BEGIN:VEVENT
DTSTART;VALUE=DATE:20211113
DTEND;VALUE=DATE:20211115
DTSTAMP:20260420T133727
CREATED:20210813T165347Z
LAST-MODIFIED:20210813T165347Z
UID:4899-1636761600-1636934399@brettbartholomew.net
SUMMARY:The Apprenticeship™ - Asheville\, NC
DESCRIPTION:
URL:https://brettbartholomew.net/event/the-apprenticeship-asheville-nc/
LOCATION:Strength Ratio\, Asheville\, NC\, United States
END:VEVENT
END:VCALENDAR