BEGIN:VCALENDAR
VERSION:2.0
PRODID:-//Brett Bartholomew - ECPv6.15.20//NONSGML v1.0//EN
CALSCALE:GREGORIAN
METHOD:PUBLISH
X-ORIGINAL-URL:https://brettbartholomew.net
X-WR-CALDESC:Events for Brett Bartholomew
REFRESH-INTERVAL;VALUE=DURATION:PT1H
X-Robots-Tag:noindex
X-PUBLISHED-TTL:PT1H
BEGIN:VTIMEZONE
TZID:UTC
BEGIN:STANDARD
TZOFFSETFROM:+0000
TZOFFSETTO:+0000
TZNAME:UTC
DTSTART:20210101T000000
END:STANDARD
END:VTIMEZONE
BEGIN:VEVENT
DTSTART;VALUE=DATE:20220204
DTEND;VALUE=DATE:20220207
DTSTAMP:20260420T090416
CREATED:20210903T205413Z
LAST-MODIFIED:20210903T205413Z
UID:4938-1643932800-1644191999@brettbartholomew.net
SUMMARY:Raise The Bar Conference
DESCRIPTION:
URL:https://brettbartholomew.net/event/raise-the-bar-conference/
LOCATION:BioFit\, Orlando\, FL\, United States
END:VEVENT
BEGIN:VEVENT
DTSTART;TZID=UTC:20220204T000000
DTEND;TZID=UTC:20220206T000000
DTSTAMP:20260420T090416
CREATED:20260211T103616Z
LAST-MODIFIED:20260211T103616Z
UID:5586-1643932800-1644105600@brettbartholomew.net
SUMMARY:Raise The Bar Conference
DESCRIPTION:
URL:https://brettbartholomew.net/event/raise-the-bar-conference-2/
CATEGORIES:Speaking Events
END:VEVENT
END:VCALENDAR