BEGIN:VCALENDAR
VERSION:2.0
PRODID:-//Brett Bartholomew - ECPv6.15.20//NONSGML v1.0//EN
CALSCALE:GREGORIAN
METHOD:PUBLISH
X-WR-CALNAME:Brett Bartholomew
X-ORIGINAL-URL:https://brettbartholomew.net
X-WR-CALDESC:Events for Brett Bartholomew
REFRESH-INTERVAL;VALUE=DURATION:PT1H
X-Robots-Tag:noindex
X-PUBLISHED-TTL:PT1H
BEGIN:VTIMEZONE
TZID:UTC
BEGIN:STANDARD
TZOFFSETFROM:+0000
TZOFFSETTO:+0000
TZNAME:UTC
DTSTART:20210101T000000
END:STANDARD
END:VTIMEZONE
BEGIN:VEVENT
DTSTART;TZID=UTC:20221105T000000
DTEND;TZID=UTC:20221106T000000
DTSTAMP:20260419T181621
CREATED:20260211T103414Z
LAST-MODIFIED:20260211T103414Z
UID:5580-1667606400-1667692800@brettbartholomew.net
SUMMARY:Brand Builder (Co-hosted with Brianna Battles)
DESCRIPTION:
URL:https://brettbartholomew.net/event/brand-builder-co-hosted-with-brianna-battles/
END:VEVENT
END:VCALENDAR